BEGIN:VCALENDAR
VERSION:2.0
PRODID:-//DP Pro Event Calendar//3.2.6//EN
BEGIN:VEVENT
UID:2a944782-9f43-4e4a-b7b1-fff7e9dac7de
DTSTART;TZID=UTC:20281011T150000
DTEND;TZID=UTC:20281011T160000
DTSTAMP:20200608T132341Z
SUMMARY:Dressuur Ilona
DESCRIPTION:
LOCATION:
URL:
END:VEVENT
END:VCALENDAR