BEGIN:VCALENDAR
VERSION:2.0
PRODID:-//DP Pro Event Calendar//3.2.6//EN
BEGIN:VEVENT
UID:92937d0a-b853-45ef-9ebe-c0f6de0a23c5
DTSTART;TZID=UTC:20281018T150000
DTEND;TZID=UTC:20281018T160000
DTSTAMP:20200608T132341Z
SUMMARY:Dressuur Ilona
DESCRIPTION:
LOCATION:
URL:
END:VEVENT
END:VCALENDAR