BEGIN:VCALENDAR
VERSION:2.0
PRODID:-//DP Pro Event Calendar//3.2.6//EN
BEGIN:VEVENT
UID:ed268e9c-c8cb-48a2-982c-d4a6243c685b
DTSTART;TZID=UTC:20281025T150000
DTEND;TZID=UTC:20281025T160000
DTSTAMP:20200608T132341Z
SUMMARY:Dressuur Ilona
DESCRIPTION:
LOCATION:
URL:
END:VEVENT
END:VCALENDAR