BEGIN:VCALENDAR
VERSION:2.0
PRODID:-//DP Pro Event Calendar//3.2.6//EN
BEGIN:VEVENT
UID:c278df4a-96bb-4fcd-9fe4-6b10e159c469
DTSTART;TZID=UTC:20281101T150000
DTEND;TZID=UTC:20281101T160000
DTSTAMP:20200608T132341Z
SUMMARY:Dressuur Ilona
DESCRIPTION:
LOCATION:
URL:
END:VEVENT
END:VCALENDAR