BEGIN:VCALENDAR
VERSION:2.0
PRODID:-//DP Pro Event Calendar//3.2.6//EN
BEGIN:VEVENT
UID:dfc46c4e-2005-4a5a-8cfd-a57bf13ea865
DTSTART;TZID=UTC:20281108T150000
DTEND;TZID=UTC:20281108T160000
DTSTAMP:20200608T132341Z
SUMMARY:Dressuur Ilona
DESCRIPTION:
LOCATION:
URL:
END:VEVENT
END:VCALENDAR