BEGIN:VCALENDAR
VERSION:2.0
PRODID:-//DP Pro Event Calendar//3.2.6//EN
BEGIN:VEVENT
UID:4dc2f2d1-a7e7-4c4b-827c-f6cf8b823b7a
DTSTART;TZID=UTC:20281115T150000
DTEND;TZID=UTC:20281115T160000
DTSTAMP:20200608T132341Z
SUMMARY:Dressuur Ilona
DESCRIPTION:
LOCATION:
URL:
END:VEVENT
END:VCALENDAR