BEGIN:VCALENDAR
VERSION:2.0
PRODID:-//DP Pro Event Calendar//3.2.6//EN
BEGIN:VEVENT
UID:84e2e90e-ee17-435a-9588-d2e46b05aa35
DTSTART;TZID=UTC:20281123T203000
DTEND;TZID=UTC:20281123T213000
DTSTAMP:20200608T135232Z
SUMMARY:Western Ilona
DESCRIPTION:
LOCATION:
URL:
END:VEVENT
END:VCALENDAR