BEGIN:VCALENDAR
VERSION:2.0
PRODID:-//DP Pro Event Calendar//3.2.6//EN
BEGIN:VEVENT
UID:3015ab04-7ee5-4b57-8428-16363afee4df
DTSTART;TZID=UTC:20281129T150000
DTEND;TZID=UTC:20281129T160000
DTSTAMP:20200608T132341Z
SUMMARY:Dressuur Ilona
DESCRIPTION:
LOCATION:
URL:
END:VEVENT
END:VCALENDAR