BEGIN:VCALENDAR
VERSION:2.0
PRODID:-//DP Pro Event Calendar//3.2.6//EN
BEGIN:VEVENT
UID:daa0172a-7edb-4b5b-bacc-e1d331941c7d
DTSTART;TZID=UTC:20281206T150000
DTEND;TZID=UTC:20281206T160000
DTSTAMP:20200608T132341Z
SUMMARY:Dressuur Ilona
DESCRIPTION:
LOCATION:
URL:
END:VEVENT
END:VCALENDAR