BEGIN:VCALENDAR
VERSION:2.0
PRODID:-//DP Pro Event Calendar//3.2.6//EN
BEGIN:VEVENT
UID:5f40cc1f-a6a1-4b2c-adce-cd230f07c8e0
DTSTART;TZID=UTC:20290103T150000
DTEND;TZID=UTC:20290103T160000
DTSTAMP:20200608T132341Z
SUMMARY:Dressuur Ilona
DESCRIPTION:
LOCATION:
URL:
END:VEVENT
END:VCALENDAR