BEGIN:VCALENDAR
VERSION:2.0
PRODID:-//DP Pro Event Calendar//3.2.6//EN
BEGIN:VEVENT
UID:504e965e-9288-4ad7-b2eb-338659a2aa69
DTSTART;TZID=UTC:20290110T150000
DTEND;TZID=UTC:20290110T160000
DTSTAMP:20200608T132341Z
SUMMARY:Dressuur Ilona
DESCRIPTION:
LOCATION:
URL:
END:VEVENT
END:VCALENDAR