BEGIN:VCALENDAR
VERSION:2.0
PRODID:-//DP Pro Event Calendar//3.2.6//EN
BEGIN:VEVENT
UID:c7fabd93-6d81-4de3-a204-39ef95a44a38
DTSTART;TZID=UTC:20290124T150000
DTEND;TZID=UTC:20290124T160000
DTSTAMP:20200608T132341Z
SUMMARY:Dressuur Ilona
DESCRIPTION:
LOCATION:
URL:
END:VEVENT
END:VCALENDAR