BEGIN:VCALENDAR
VERSION:2.0
PRODID:-//DP Pro Event Calendar//3.2.6//EN
BEGIN:VEVENT
UID:88f423e2-77c3-4848-a791-5a387dc127d3
DTSTART;TZID=UTC:20290207T150000
DTEND;TZID=UTC:20290207T160000
DTSTAMP:20200608T132341Z
SUMMARY:Dressuur Ilona
DESCRIPTION:
LOCATION:
URL:
END:VEVENT
END:VCALENDAR