BEGIN:VCALENDAR
VERSION:2.0
PRODID:-//DP Pro Event Calendar//3.2.6//EN
BEGIN:VEVENT
UID:09a482a5-f01b-4acd-926c-574db018f6df
DTSTART;TZID=UTC:20290221T150000
DTEND;TZID=UTC:20290221T160000
DTSTAMP:20200608T132341Z
SUMMARY:Dressuur Ilona
DESCRIPTION:
LOCATION:
URL:
END:VEVENT
END:VCALENDAR