BEGIN:VCALENDAR
VERSION:2.0
PRODID:-//DP Pro Event Calendar//3.2.6//EN
BEGIN:VEVENT
UID:1fe14eb0-a18e-4963-91c8-74d6a9d0ab70
DTSTART;TZID=UTC:20290228T150000
DTEND;TZID=UTC:20290228T160000
DTSTAMP:20200608T132341Z
SUMMARY:Dressuur Ilona
DESCRIPTION:
LOCATION:
URL:
END:VEVENT
END:VCALENDAR