BEGIN:VCALENDAR
VERSION:2.0
PRODID:-//DP Pro Event Calendar//3.2.6//EN
BEGIN:VEVENT
UID:cdedac82-de8f-4654-baae-191dd6ad9ae0
DTSTART;TZID=UTC:20290314T150000
DTEND;TZID=UTC:20290314T160000
DTSTAMP:20200608T132341Z
SUMMARY:Dressuur Ilona
DESCRIPTION:
LOCATION:
URL:
END:VEVENT
END:VCALENDAR