BEGIN:VCALENDAR
VERSION:2.0
PRODID:-//DP Pro Event Calendar//3.2.6//EN
BEGIN:VEVENT
UID:4fd28b06-477a-46b3-9d4e-f33876f71402
DTSTART;TZID=UTC:20290315T203000
DTEND;TZID=UTC:20290315T213000
DTSTAMP:20200608T135232Z
SUMMARY:Western Ilona
DESCRIPTION:
LOCATION:
URL:
END:VEVENT
END:VCALENDAR