BEGIN:VCALENDAR
VERSION:2.0
PRODID:-//DP Pro Event Calendar//3.2.6//EN
BEGIN:VEVENT
UID:c5784dca-2f80-4c05-9ded-20767d5c2bfc
DTSTART;TZID=UTC:20290321T150000
DTEND;TZID=UTC:20290321T160000
DTSTAMP:20200608T132341Z
SUMMARY:Dressuur Ilona
DESCRIPTION:
LOCATION:
URL:
END:VEVENT
END:VCALENDAR