BEGIN:VCALENDAR
VERSION:2.0
PRODID:-//DP Pro Event Calendar//3.2.6//EN
BEGIN:VEVENT
UID:d3cc81ea-a0c4-4ad6-906c-e99162773380
DTSTART;TZID=UTC:20290328T150000
DTEND;TZID=UTC:20290328T160000
DTSTAMP:20200608T132341Z
SUMMARY:Dressuur Ilona
DESCRIPTION:
LOCATION:
URL:
END:VEVENT
END:VCALENDAR