BEGIN:VCALENDAR
VERSION:2.0
PRODID:-//DP Pro Event Calendar//3.2.6//EN
BEGIN:VEVENT
UID:2e2956bc-fcdc-47d8-b94e-dfcf64d51a37
DTSTART;TZID=UTC:20290329T203000
DTEND;TZID=UTC:20290329T213000
DTSTAMP:20200608T135232Z
SUMMARY:Western Ilona
DESCRIPTION:
LOCATION:
URL:
END:VEVENT
END:VCALENDAR