BEGIN:VCALENDAR
VERSION:2.0
PRODID:-//DP Pro Event Calendar//3.2.6//EN
BEGIN:VEVENT
UID:7a6100c1-088d-4c01-9c51-6a36dbbd6964
DTSTART;TZID=UTC:20290411T150000
DTEND;TZID=UTC:20290411T160000
DTSTAMP:20200608T132341Z
SUMMARY:Dressuur Ilona
DESCRIPTION:
LOCATION:
URL:
END:VEVENT
END:VCALENDAR