BEGIN:VCALENDAR
VERSION:2.0
PRODID:-//DP Pro Event Calendar//3.2.6//EN
BEGIN:VEVENT
UID:aec7c2dd-a2ab-451d-9cb1-34119c1eb2f6
DTSTART;TZID=UTC:20290418T150000
DTEND;TZID=UTC:20290418T160000
DTSTAMP:20200608T132341Z
SUMMARY:Dressuur Ilona
DESCRIPTION:
LOCATION:
URL:
END:VEVENT
END:VCALENDAR