BEGIN:VCALENDAR
VERSION:2.0
PRODID:-//DP Pro Event Calendar//3.2.6//EN
BEGIN:VEVENT
UID:dd0fbf01-00a4-4dfa-96f2-898ee85b6035
DTSTART;TZID=UTC:20290419T203000
DTEND;TZID=UTC:20290419T213000
DTSTAMP:20200608T135232Z
SUMMARY:Western Ilona
DESCRIPTION:
LOCATION:
URL:
END:VEVENT
END:VCALENDAR