BEGIN:VCALENDAR
VERSION:2.0
PRODID:-//DP Pro Event Calendar//3.2.6//EN
BEGIN:VEVENT
UID:a84de461-5b37-4fa3-9597-86bb5afffba0
DTSTART;TZID=UTC:20290425T150000
DTEND;TZID=UTC:20290425T160000
DTSTAMP:20200608T132341Z
SUMMARY:Dressuur Ilona
DESCRIPTION:
LOCATION:
URL:
END:VEVENT
END:VCALENDAR