BEGIN:VCALENDAR
VERSION:2.0
PRODID:-//DP Pro Event Calendar//3.2.6//EN
BEGIN:VEVENT
UID:4eac7a86-c894-4095-96e1-a90a0b8b1555
DTSTART;TZID=UTC:20290516T150000
DTEND;TZID=UTC:20290516T160000
DTSTAMP:20200608T132341Z
SUMMARY:Dressuur Ilona
DESCRIPTION:
LOCATION:
URL:
END:VEVENT
END:VCALENDAR