BEGIN:VCALENDAR
VERSION:2.0
PRODID:-//DP Pro Event Calendar//3.2.6//EN
BEGIN:VEVENT
UID:767004e1-11d7-494a-a089-a8ceba4e4635
DTSTART;TZID=UTC:20290523T150000
DTEND;TZID=UTC:20290523T160000
DTSTAMP:20200608T132341Z
SUMMARY:Dressuur Ilona
DESCRIPTION:
LOCATION:
URL:
END:VEVENT
END:VCALENDAR