BEGIN:VCALENDAR
VERSION:2.0
PRODID:-//DP Pro Event Calendar//3.2.6//EN
BEGIN:VEVENT
UID:bdc1991c-3448-40f9-830a-2d7621d37a1b
DTSTART;TZID=UTC:20290530T150000
DTEND;TZID=UTC:20290530T160000
DTSTAMP:20200608T132341Z
SUMMARY:Dressuur Ilona
DESCRIPTION:
LOCATION:
URL:
END:VEVENT
END:VCALENDAR