BEGIN:VCALENDAR
VERSION:2.0
PRODID:-//DP Pro Event Calendar//3.2.6//EN
BEGIN:VEVENT
UID:40decaf9-507b-4492-9df7-b0bde2cdc22f
DTSTART;TZID=UTC:20290606T150000
DTEND;TZID=UTC:20290606T160000
DTSTAMP:20200608T132341Z
SUMMARY:Dressuur Ilona
DESCRIPTION:
LOCATION:
URL:
END:VEVENT
END:VCALENDAR