BEGIN:VCALENDAR
VERSION:2.0
PRODID:-//DP Pro Event Calendar//3.2.6//EN
BEGIN:VEVENT
UID:ae2e7565-801d-44a7-ba13-342f2a02e7f4
DTSTART;TZID=UTC:20290620T150000
DTEND;TZID=UTC:20290620T160000
DTSTAMP:20200608T132341Z
SUMMARY:Dressuur Ilona
DESCRIPTION:
LOCATION:
URL:
END:VEVENT
END:VCALENDAR