BEGIN:VCALENDAR
VERSION:2.0
PRODID:-//DP Pro Event Calendar//3.2.6//EN
BEGIN:VEVENT
UID:a828c189-2807-43a8-8a50-7e0bef264bb8
DTSTART;TZID=UTC:20290627T150000
DTEND;TZID=UTC:20290627T160000
DTSTAMP:20200608T132341Z
SUMMARY:Dressuur Ilona
DESCRIPTION:
LOCATION:
URL:
END:VEVENT
END:VCALENDAR