BEGIN:VCALENDAR
VERSION:2.0
PRODID:-//DP Pro Event Calendar//3.2.6//EN
BEGIN:VEVENT
UID:fcc9e2db-626d-42a6-a3ef-f6428df3d171
DTSTART;TZID=UTC:20290704T150000
DTEND;TZID=UTC:20290704T160000
DTSTAMP:20200608T132341Z
SUMMARY:Dressuur Ilona
DESCRIPTION:
LOCATION:
URL:
END:VEVENT
END:VCALENDAR