BEGIN:VCALENDAR
VERSION:2.0
PRODID:-//DP Pro Event Calendar//3.2.6//EN
BEGIN:VEVENT
UID:c2f388bf-662a-470e-a6b5-87eecaea0f81
DTSTART;TZID=UTC:20290725T150000
DTEND;TZID=UTC:20290725T160000
DTSTAMP:20200608T132341Z
SUMMARY:Dressuur Ilona
DESCRIPTION:
LOCATION:
URL:
END:VEVENT
END:VCALENDAR