BEGIN:VCALENDAR
VERSION:2.0
PRODID:-//DP Pro Event Calendar//3.2.6//EN
BEGIN:VEVENT
UID:7cd9df83-c771-4efa-9125-15d32866ff3a
DTSTART;TZID=UTC:20290801T150000
DTEND;TZID=UTC:20290801T160000
DTSTAMP:20200608T132341Z
SUMMARY:Dressuur Ilona
DESCRIPTION:
LOCATION:
URL:
END:VEVENT
END:VCALENDAR