BEGIN:VCALENDAR
VERSION:2.0
PRODID:-//DP Pro Event Calendar//3.2.6//EN
BEGIN:VEVENT
UID:0fe5f42f-0c75-4a18-a02f-5bcbf66ae6ff
DTSTART;TZID=UTC:20290808T150000
DTEND;TZID=UTC:20290808T160000
DTSTAMP:20200608T132341Z
SUMMARY:Dressuur Ilona
DESCRIPTION:
LOCATION:
URL:
END:VEVENT
END:VCALENDAR