BEGIN:VCALENDAR
VERSION:2.0
PRODID:-//DP Pro Event Calendar//3.2.6//EN
BEGIN:VEVENT
UID:d1d57d18-ab0c-46df-be88-9c81e0e5907f
DTSTART;TZID=UTC:20290815T150000
DTEND;TZID=UTC:20290815T160000
DTSTAMP:20200608T132341Z
SUMMARY:Dressuur Ilona
DESCRIPTION:
LOCATION:
URL:
END:VEVENT
END:VCALENDAR