BEGIN:VCALENDAR
VERSION:2.0
PRODID:-//DP Pro Event Calendar//3.2.6//EN
BEGIN:VEVENT
UID:565a99f4-aeca-4845-be2b-d59a9a110cc9
DTSTART;TZID=UTC:20290829T150000
DTEND;TZID=UTC:20290829T160000
DTSTAMP:20200608T132341Z
SUMMARY:Dressuur Ilona
DESCRIPTION:
LOCATION:
URL:
END:VEVENT
END:VCALENDAR