BEGIN:VCALENDAR
VERSION:2.0
PRODID:-//DP Pro Event Calendar//3.2.6//EN
BEGIN:VEVENT
UID:cb65a597-8bdc-4ab5-a1fa-6fa2a40ce3f9
DTSTART;TZID=UTC:20290905T150000
DTEND;TZID=UTC:20290905T160000
DTSTAMP:20200608T132341Z
SUMMARY:Dressuur Ilona
DESCRIPTION:
LOCATION:
URL:
END:VEVENT
END:VCALENDAR