BEGIN:VCALENDAR
VERSION:2.0
PRODID:-//DP Pro Event Calendar//3.2.6//EN
BEGIN:VEVENT
UID:8a8e0183-9248-4bd8-8982-68697d4549f9
DTSTART;TZID=UTC:20290912T150000
DTEND;TZID=UTC:20290912T160000
DTSTAMP:20200608T132341Z
SUMMARY:Dressuur Ilona
DESCRIPTION:
LOCATION:
URL:
END:VEVENT
END:VCALENDAR