BEGIN:VCALENDAR
VERSION:2.0
PRODID:-//DP Pro Event Calendar//3.2.6//EN
BEGIN:VEVENT
UID:a8d62e61-6da0-43cd-8e1c-36889f8ae5d7
DTSTART;TZID=UTC:20290926T150000
DTEND;TZID=UTC:20290926T160000
DTSTAMP:20200608T132341Z
SUMMARY:Dressuur Ilona
DESCRIPTION:
LOCATION:
URL:
END:VEVENT
END:VCALENDAR