BEGIN:VCALENDAR
VERSION:2.0
PRODID:-//DP Pro Event Calendar//3.2.6//EN
BEGIN:VEVENT
UID:f945ee30-3a7a-4d23-9432-646d85abb3b7
DTSTART;TZID=UTC:20291003T150000
DTEND;TZID=UTC:20291003T160000
DTSTAMP:20200608T132341Z
SUMMARY:Dressuur Ilona
DESCRIPTION:
LOCATION:
URL:
END:VEVENT
END:VCALENDAR