BEGIN:VCALENDAR
VERSION:2.0
PRODID:-//DP Pro Event Calendar//3.2.6//EN
BEGIN:VEVENT
UID:a6381e10-585d-420a-aa5d-c4f994419df1
DTSTART;TZID=UTC:20291010T150000
DTEND;TZID=UTC:20291010T160000
DTSTAMP:20200608T132341Z
SUMMARY:Dressuur Ilona
DESCRIPTION:
LOCATION:
URL:
END:VEVENT
END:VCALENDAR