BEGIN:VCALENDAR
VERSION:2.0
PRODID:-//DP Pro Event Calendar//3.2.6//EN
BEGIN:VEVENT
UID:e6a8db5d-b025-472f-ad4a-5adb9b0c2b4c
DTSTART;TZID=UTC:20291024T150000
DTEND;TZID=UTC:20291024T160000
DTSTAMP:20200608T132341Z
SUMMARY:Dressuur Ilona
DESCRIPTION:
LOCATION:
URL:
END:VEVENT
END:VCALENDAR