BEGIN:VCALENDAR
VERSION:2.0
PRODID:-//DP Pro Event Calendar//3.2.6//EN
BEGIN:VEVENT
UID:e8574872-6734-4b88-9be5-7c6860b6efaf
DTSTART;TZID=UTC:20291031T150000
DTEND;TZID=UTC:20291031T160000
DTSTAMP:20200608T132341Z
SUMMARY:Dressuur Ilona
DESCRIPTION:
LOCATION:
URL:
END:VEVENT
END:VCALENDAR