BEGIN:VCALENDAR
VERSION:2.0
PRODID:-//DP Pro Event Calendar//3.2.6//EN
BEGIN:VEVENT
UID:7ffd6299-20eb-4ea3-8457-0887573b90f8
DTSTART;TZID=UTC:20291107T150000
DTEND;TZID=UTC:20291107T160000
DTSTAMP:20200608T132341Z
SUMMARY:Dressuur Ilona
DESCRIPTION:
LOCATION:
URL:
END:VEVENT
END:VCALENDAR