BEGIN:VCALENDAR
VERSION:2.0
PRODID:-//DP Pro Event Calendar//3.2.6//EN
BEGIN:VEVENT
UID:e54d2442-ea4d-47a3-a056-4347cb27856c
DTSTART;TZID=UTC:20291114T150000
DTEND;TZID=UTC:20291114T160000
DTSTAMP:20200608T132341Z
SUMMARY:Dressuur Ilona
DESCRIPTION:
LOCATION:
URL:
END:VEVENT
END:VCALENDAR