BEGIN:VCALENDAR
VERSION:2.0
PRODID:-//DP Pro Event Calendar//3.2.6//EN
BEGIN:VEVENT
UID:6c51fca3-a42b-4b78-acf1-9d9189ef1d25
DTSTART;TZID=UTC:20291128T150000
DTEND;TZID=UTC:20291128T160000
DTSTAMP:20200608T132341Z
SUMMARY:Dressuur Ilona
DESCRIPTION:
LOCATION:
URL:
END:VEVENT
END:VCALENDAR