BEGIN:VCALENDAR
VERSION:2.0
PRODID:-//DP Pro Event Calendar//3.2.6//EN
BEGIN:VEVENT
UID:a5da124c-38b1-4e53-936f-c9d5c1b0753d
DTSTART;TZID=UTC:20291205T150000
DTEND;TZID=UTC:20291205T160000
DTSTAMP:20200608T132341Z
SUMMARY:Dressuur Ilona
DESCRIPTION:
LOCATION:
URL:
END:VEVENT
END:VCALENDAR