BEGIN:VCALENDAR
VERSION:2.0
PRODID:-//DP Pro Event Calendar//3.2.6//EN
BEGIN:VEVENT
UID:086a11ae-9347-46ba-851f-fb1df5f56267
DTSTART;TZID=UTC:20291212T150000
DTEND;TZID=UTC:20291212T160000
DTSTAMP:20200608T132341Z
SUMMARY:Dressuur Ilona
DESCRIPTION:
LOCATION:
URL:
END:VEVENT
END:VCALENDAR