BEGIN:VCALENDAR
VERSION:2.0
PRODID:-//DP Pro Event Calendar//3.2.6//EN
BEGIN:VEVENT
UID:127d0783-8684-4d00-aeaa-42c8c7f612e1
DTSTART;TZID=UTC:20291226T150000
DTEND;TZID=UTC:20291226T160000
DTSTAMP:20200608T132341Z
SUMMARY:Dressuur Ilona
DESCRIPTION:
LOCATION:
URL:
END:VEVENT
END:VCALENDAR